BEGIN:VCALENDAR
VERSION:2.0
PRODID:-//Church of the Redeemer - Moravian Church - ECPv6.15.20//NONSGML v1.0//EN
CALSCALE:GREGORIAN
METHOD:PUBLISH
X-WR-CALNAME:Church of the Redeemer - Moravian Church
X-ORIGINAL-URL:https://redeemermoravian.org
X-WR-CALDESC:Events for Church of the Redeemer - Moravian Church
REFRESH-INTERVAL;VALUE=DURATION:PT1H
X-Robots-Tag:noindex
X-PUBLISHED-TTL:PT1H
BEGIN:VTIMEZONE
TZID:America/New_York
BEGIN:DAYLIGHT
TZOFFSETFROM:-0500
TZOFFSETTO:-0400
TZNAME:EDT
DTSTART:20160313T070000
END:DAYLIGHT
BEGIN:STANDARD
TZOFFSETFROM:-0400
TZOFFSETTO:-0500
TZNAME:EST
DTSTART:20161106T060000
END:STANDARD
BEGIN:DAYLIGHT
TZOFFSETFROM:-0500
TZOFFSETTO:-0400
TZNAME:EDT
DTSTART:20170312T070000
END:DAYLIGHT
BEGIN:STANDARD
TZOFFSETFROM:-0400
TZOFFSETTO:-0500
TZNAME:EST
DTSTART:20171105T060000
END:STANDARD
BEGIN:DAYLIGHT
TZOFFSETFROM:-0500
TZOFFSETTO:-0400
TZNAME:EDT
DTSTART:20180311T070000
END:DAYLIGHT
BEGIN:STANDARD
TZOFFSETFROM:-0400
TZOFFSETTO:-0500
TZNAME:EST
DTSTART:20181104T060000
END:STANDARD
END:VTIMEZONE
BEGIN:VEVENT
DTSTART;TZID=America/New_York:20170618T103000
DTEND;TZID=America/New_York:20170618T120000
DTSTAMP:20260423T112019
CREATED:20170609T174325Z
LAST-MODIFIED:20170609T180113Z
UID:1004-1497781800-1497787200@redeemermoravian.org
SUMMARY:Father's Day Worship with Root Beer Floats after
DESCRIPTION:
URL:https://redeemermoravian.org/event/fathers-day-root-beer-foats/
END:VEVENT
BEGIN:VEVENT
DTSTART;TZID=America/New_York:20170416T063000
DTEND;TZID=America/New_York:20170416T073000
DTSTAMP:20260423T112019
CREATED:20170330T205844Z
LAST-MODIFIED:20170330T210417Z
UID:965-1492324200-1492327800@redeemermoravian.org
SUMMARY:Easter Sunrise Service
DESCRIPTION:Join us in quiet contemplation before the sunrises. \nLet our voices shout together that Christ is Risen! \nThis service ends outside as we remember those who have died and if all goes well we will see the sunrise. \nAfter there is a breakfast provided by the Women’s Fellowship group. A delightful time of fun\, food\, and fellowship. \nRegular Easter service at 10:30 a.m.
URL:https://redeemermoravian.org/event/easter-sunrise-service/
END:VEVENT
BEGIN:VEVENT
DTSTART;TZID=America/New_York:20170414T193000
DTEND;TZID=America/New_York:20170414T203000
DTSTAMP:20260423T112019
CREATED:20170330T204721Z
LAST-MODIFIED:20170330T204721Z
UID:962-1492198200-1492201800@redeemermoravian.org
SUMMARY:Good Friday Tenebrae Service
DESCRIPTION:This Years Ecumenical service will be held at St. Andrew Christian Church at 7:30 p.m.
URL:https://redeemermoravian.org/event/good-friday-tenebrae-service/
END:VEVENT
BEGIN:VEVENT
DTSTART;TZID=America/New_York:20170413T190000
DTEND;TZID=America/New_York:20170413T200000
DTSTAMP:20260423T112019
CREATED:20170330T204023Z
LAST-MODIFIED:20170330T204104Z
UID:959-1492110000-1492113600@redeemermoravian.org
SUMMARY:Maundy Thursday Worship
DESCRIPTION:Join us at 7:00 p.m. for worship and Holy Communion. \nEveryone welcome
URL:https://redeemermoravian.org/event/maundy-thursday-worship/
END:VEVENT
END:VCALENDAR